BEGIN:VCALENDAR
VERSION:2.0
PRODID:-//Tukios.com/
BEGIN:VEVENT
UID:19250baa-c67a-4745-8050-8b30445142eb@obituaries.carewellcremations.com
DTSTAMP:20260419T170450Z
DTSTART:20260629T150000Z
DTEND:20260629T160000Z
SUMMARY:Mass
DESCRIPTION:
URL:https://obituaries.carewellcremations.com/james-tierney-sr
LOCATION:St. Patrick's Church 329 West Mercury Street  Butte MT 59701
GEO:46.0114342;-112.5417108
END:VEVENT
END:VCALENDAR